BEGIN:VCALENDAR
VERSION:2.0
PRODID:icalendar-ruby
CALSCALE:GREGORIAN
METHOD:PUBLISH
BEGIN:VEVENT
DTSTAMP:20260422T012328Z
UID:5-1044642@damascuschurch.com
DTSTART:20260906T150000Z
DTEND:20260906T160000Z
CLASS:PUBLIC
CREATED:20260421T205007
DESCRIPTION:Sunday Worship
LAST-MODIFIED:20260421T205007
LOCATION:
SUMMARY:Sunday Worship
URL;VALUE=URI:https://www.damascuschurch.com/events/sunday-worship/2026-09-
 06
END:VEVENT
END:VCALENDAR
