BEGIN:VCALENDAR
VERSION:2.0
PRODID:icalendar-ruby
CALSCALE:GREGORIAN
METHOD:PUBLISH
BEGIN:VEVENT
DTSTAMP:20260421T235015Z
UID:5-1044262@damascuschurch.com
DTSTART:20260830T150000Z
DTEND:20260830T160000Z
CLASS:PUBLIC
CREATED:20260421T181130
DESCRIPTION:Sunday Worship
LAST-MODIFIED:20260421T181130
LOCATION:
SUMMARY:Sunday Worship
URL;VALUE=URI:https://www.damascuschurch.com/events/sunday-worship/2026-08-
 30
END:VEVENT
END:VCALENDAR
