BEGIN:VCALENDAR
VERSION:2.0
PRODID:icalendar-ruby
CALSCALE:GREGORIAN
METHOD:PUBLISH
BEGIN:VEVENT
DTSTAMP:20260421T202257Z
UID:5-1043881@damascuschurch.com
DTSTART:20260816T150000Z
DTEND:20260816T160000Z
CLASS:PUBLIC
CREATED:20260421T153351
DESCRIPTION:Sunday Worship
LAST-MODIFIED:20260421T153351
LOCATION:
SUMMARY:Sunday Worship
URL;VALUE=URI:https://www.damascuschurch.com/events/sunday-worship/2026-08-
 16
END:VEVENT
END:VCALENDAR
