BEGIN:VCALENDAR
VERSION:2.0
PRODID:icalendar-ruby
CALSCALE:GREGORIAN
METHOD:PUBLISH
BEGIN:VEVENT
DTSTAMP:20260421T174113Z
UID:5-1043500@damascuschurch.com
DTSTART:20260802T150000Z
DTEND:20260802T160000Z
CLASS:PUBLIC
CREATED:20260421T125654
DESCRIPTION:Sunday Worship
LAST-MODIFIED:20260421T125654
LOCATION:
SUMMARY:Sunday Worship
URL;VALUE=URI:https://www.damascuschurch.com/events/sunday-worship/2026-08-
 02
END:VEVENT
END:VCALENDAR
