BEGIN:VCALENDAR
VERSION:2.0
PRODID:icalendar-ruby
CALSCALE:GREGORIAN
METHOD:PUBLISH
BEGIN:VEVENT
DTSTAMP:20260421T115421Z
UID:5-1042741@damascuschurch.com
DTSTART:20260726T150000Z
DTEND:20260726T160000Z
CLASS:PUBLIC
CREATED:20260421T074219
DESCRIPTION:Sunday Worship
LAST-MODIFIED:20260421T074219
LOCATION:
SUMMARY:Sunday Worship
URL;VALUE=URI:https://www.damascuschurch.com/events/sunday-worship/2026-07-
 26
END:VEVENT
END:VCALENDAR
